[Date Prev][Date Next][Thread Prev][Thread Next][Date Index][Thread Index] [ovmf test] 183498: all pass - PUSHED
flight 183498 ovmf real [real] http://logs.test-lab.xenproject.org/osstest/logs/183498/ Perfect :-) All tests in this flight passed as required version targeted for testing: ovmf ec7f73436646a9232c6494d1ce23fb38000e10d3 baseline version: ovmf c591395f4ab5359c14e783481473685cf432fe75 Last test of basis 183445 2023-10-20 13:10:42 Z 3 days Testing same since 183498 2023-10-23 17:10:46 Z 0 days 1 attempts ------------------------------------------------------------ People who touched revisions under test: Jeshua Smith <jeshuas@xxxxxxxxxx> jobs: build-amd64-xsm pass build-i386-xsm pass build-amd64 pass build-i386 pass build-amd64-libvirt pass build-i386-libvirt pass build-amd64-pvops pass build-i386-pvops pass test-amd64-amd64-xl-qemuu-ovmf-amd64 pass test-amd64-i386-xl-qemuu-ovmf-amd64 pass ------------------------------------------------------------ sg-report-flight on osstest.test-lab.xenproject.org logs: /home/logs/logs images: /home/logs/images Logs, config files, etc. are available at http://logs.test-lab.xenproject.org/osstest/logs Explanation of these reports, and of osstest in general, is at http://xenbits.xen.org/gitweb/?p=osstest.git;a=blob;f=README.email;hb=master http://xenbits.xen.org/gitweb/?p=osstest.git;a=blob;f=README;hb=master Test harness code can be found at http://xenbits.xen.org/gitweb?p=osstest.git;a=summary Pushing revision : To xenbits.xen.org:/home/xen/git/osstest/ovmf.git c591395f4a..ec7f734366 ec7f73436646a9232c6494d1ce23fb38000e10d3 -> xen-tested-master
|
![]() |
Lists.xenproject.org is hosted with RackSpace, monitoring our |