[Date Prev][Date Next][Thread Prev][Thread Next][Date Index][Thread Index] [ovmf test] 183355: all pass - PUSHED
flight 183355 ovmf real [real] http://logs.test-lab.xenproject.org/osstest/logs/183355/ Perfect :-) All tests in this flight passed as required version targeted for testing: ovmf 326b9e1d815c4ae4b0b207fcb0bfa16864af5400 baseline version: ovmf eebd446875a4b1e4879e03764f63c6c358fd64f5 Last test of basis 183352 2023-10-12 05:42:31 Z 0 days Testing same since 183355 2023-10-12 09:13:57 Z 0 days 1 attempts ------------------------------------------------------------ People who touched revisions under test: Yuanhao Xie <yuanhao.xie@xxxxxxxxx> YuanhaoXie <yuanhao.xie@xxxxxxxxx> jobs: build-amd64-xsm pass build-i386-xsm pass build-amd64 pass build-i386 pass build-amd64-libvirt pass build-i386-libvirt pass build-amd64-pvops pass build-i386-pvops pass test-amd64-amd64-xl-qemuu-ovmf-amd64 pass test-amd64-i386-xl-qemuu-ovmf-amd64 pass ------------------------------------------------------------ sg-report-flight on osstest.test-lab.xenproject.org logs: /home/logs/logs images: /home/logs/images Logs, config files, etc. are available at http://logs.test-lab.xenproject.org/osstest/logs Explanation of these reports, and of osstest in general, is at http://xenbits.xen.org/gitweb/?p=osstest.git;a=blob;f=README.email;hb=master http://xenbits.xen.org/gitweb/?p=osstest.git;a=blob;f=README;hb=master Test harness code can be found at http://xenbits.xen.org/gitweb?p=osstest.git;a=summary Pushing revision : To xenbits.xen.org:/home/xen/git/osstest/ovmf.git eebd446875..326b9e1d81 326b9e1d815c4ae4b0b207fcb0bfa16864af5400 -> xen-tested-master
|
![]() |
Lists.xenproject.org is hosted with RackSpace, monitoring our |