[Date Prev][Date Next][Thread Prev][Thread Next][Date Index][Thread Index] [ovmf test] 184425: all pass - PUSHED
flight 184425 ovmf real [real] http://logs.test-lab.xenproject.org/osstest/logs/184425/ Perfect :-) All tests in this flight passed as required version targeted for testing: ovmf 313f9f01552227138e08a7a7f44be48e5ba20a99 baseline version: ovmf 0b09397dfa0123b9a27c2c52fd2ddafd7a902137 Last test of basis 184423 2024-01-22 11:14:34 Z 0 days Testing same since 184425 2024-01-22 15:42:46 Z 0 days 1 attempts ------------------------------------------------------------ People who touched revisions under test: Michael Kubacki <michael.kubacki@xxxxxxxxxxxxx> jobs: build-amd64-xsm pass build-i386-xsm pass build-amd64 pass build-i386 pass build-amd64-libvirt pass build-i386-libvirt pass build-amd64-pvops pass build-i386-pvops pass test-amd64-amd64-xl-qemuu-ovmf-amd64 pass test-amd64-i386-xl-qemuu-ovmf-amd64 pass ------------------------------------------------------------ sg-report-flight on osstest.test-lab.xenproject.org logs: /home/logs/logs images: /home/logs/images Logs, config files, etc. are available at http://logs.test-lab.xenproject.org/osstest/logs Explanation of these reports, and of osstest in general, is at http://xenbits.xen.org/gitweb/?p=osstest.git;a=blob;f=README.email;hb=master http://xenbits.xen.org/gitweb/?p=osstest.git;a=blob;f=README;hb=master Test harness code can be found at http://xenbits.xen.org/gitweb?p=osstest.git;a=summary Pushing revision : To xenbits.xen.org:/home/xen/git/osstest/ovmf.git 0b09397dfa..313f9f0155 313f9f01552227138e08a7a7f44be48e5ba20a99 -> xen-tested-master
|
![]() |
Lists.xenproject.org is hosted with RackSpace, monitoring our |