[Date Prev][Date Next][Thread Prev][Thread Next][Date Index][Thread Index] [ovmf test] 184400: all pass - PUSHED
flight 184400 ovmf real [real] http://logs.test-lab.xenproject.org/osstest/logs/184400/ Perfect :-) All tests in this flight passed as required version targeted for testing: ovmf 9d3fe85fcc8ff386ee0814a4dad03bbf7dc54594 baseline version: ovmf 264636d8e6983e0f6dc6be2fca9d84ec81315954 Last test of basis 184395 2024-01-18 19:44:20 Z 0 days Testing same since 184400 2024-01-19 03:43:25 Z 0 days 1 attempts ------------------------------------------------------------ People who touched revisions under test: Ashish Singhal <ashishsingha@xxxxxxxxxx> Michael D Kinney <michael.d.kinney@xxxxxxxxx> jobs: build-amd64-xsm pass build-i386-xsm pass build-amd64 pass build-i386 pass build-amd64-libvirt pass build-i386-libvirt pass build-amd64-pvops pass build-i386-pvops pass test-amd64-amd64-xl-qemuu-ovmf-amd64 pass test-amd64-i386-xl-qemuu-ovmf-amd64 pass ------------------------------------------------------------ sg-report-flight on osstest.test-lab.xenproject.org logs: /home/logs/logs images: /home/logs/images Logs, config files, etc. are available at http://logs.test-lab.xenproject.org/osstest/logs Explanation of these reports, and of osstest in general, is at http://xenbits.xen.org/gitweb/?p=osstest.git;a=blob;f=README.email;hb=master http://xenbits.xen.org/gitweb/?p=osstest.git;a=blob;f=README;hb=master Test harness code can be found at http://xenbits.xen.org/gitweb?p=osstest.git;a=summary Pushing revision : To xenbits.xen.org:/home/xen/git/osstest/ovmf.git 264636d8e6..9d3fe85fcc 9d3fe85fcc8ff386ee0814a4dad03bbf7dc54594 -> xen-tested-master
|
![]() |
Lists.xenproject.org is hosted with RackSpace, monitoring our |