[Date Prev][Date Next][Thread Prev][Thread Next][Date Index][Thread Index] [ovmf test] 183639: all pass - PUSHED
flight 183639 ovmf real [real] http://logs.test-lab.xenproject.org/osstest/logs/183639/ Perfect :-) All tests in this flight passed as required version targeted for testing: ovmf 36812d6c3e0c4402ea90e20566ac80de634d210b baseline version: ovmf a671a14e63fdaa9490e5c61cf11346416f1d1463 Last test of basis 183619 2023-10-30 12:41:05 Z 1 days Testing same since 183639 2023-10-31 15:12:49 Z 0 days 1 attempts ------------------------------------------------------------ People who touched revisions under test: Jeff Brasen <jbrasen@xxxxxxxxxx> Jiewen Yao <Jiewen.yao@xxxxxxxxx> Jinlong Xu <jinlong.xu@xxxxxxxxx> Joey Vagedes <joeyvagedes@xxxxxxxxx> Joey Vagedes <joeyvagedes@xxxxxxxxxxxxx> Laszlo Ersek <lersek@xxxxxxxxxx> Michael Kubacki <michael.kubacki@xxxxxxxxxxxxx> jobs: build-amd64-xsm pass build-i386-xsm pass build-amd64 pass build-i386 pass build-amd64-libvirt pass build-i386-libvirt pass build-amd64-pvops pass build-i386-pvops pass test-amd64-amd64-xl-qemuu-ovmf-amd64 pass test-amd64-i386-xl-qemuu-ovmf-amd64 pass ------------------------------------------------------------ sg-report-flight on osstest.test-lab.xenproject.org logs: /home/logs/logs images: /home/logs/images Logs, config files, etc. are available at http://logs.test-lab.xenproject.org/osstest/logs Explanation of these reports, and of osstest in general, is at http://xenbits.xen.org/gitweb/?p=osstest.git;a=blob;f=README.email;hb=master http://xenbits.xen.org/gitweb/?p=osstest.git;a=blob;f=README;hb=master Test harness code can be found at http://xenbits.xen.org/gitweb?p=osstest.git;a=summary Pushing revision : To xenbits.xen.org:/home/xen/git/osstest/ovmf.git a671a14e63..36812d6c3e 36812d6c3e0c4402ea90e20566ac80de634d210b -> xen-tested-master
|
Lists.xenproject.org is hosted with RackSpace, monitoring our |