[Date Prev][Date Next][Thread Prev][Thread Next][Date Index][Thread Index] [ovmf test] 183542: all pass - PUSHED
flight 183542 ovmf real [real] http://logs.test-lab.xenproject.org/osstest/logs/183542/ Perfect :-) All tests in this flight passed as required version targeted for testing: ovmf 74c687cc2f2f29d3bdd454a416624f0ca5a86566 baseline version: ovmf fe43b426762c31c2f1958444d3aca388ec8d4702 Last test of basis 183539 2023-10-26 15:43:55 Z 0 days Testing same since 183542 2023-10-26 18:10:40 Z 0 days 1 attempts ------------------------------------------------------------ People who touched revisions under test: Yuanhao Xie <yuanhao.xie@xxxxxxxxx> jobs: build-amd64-xsm pass build-i386-xsm pass build-amd64 pass build-i386 pass build-amd64-libvirt pass build-i386-libvirt pass build-amd64-pvops pass build-i386-pvops pass test-amd64-amd64-xl-qemuu-ovmf-amd64 pass test-amd64-i386-xl-qemuu-ovmf-amd64 pass ------------------------------------------------------------ sg-report-flight on osstest.test-lab.xenproject.org logs: /home/logs/logs images: /home/logs/images Logs, config files, etc. are available at http://logs.test-lab.xenproject.org/osstest/logs Explanation of these reports, and of osstest in general, is at http://xenbits.xen.org/gitweb/?p=osstest.git;a=blob;f=README.email;hb=master http://xenbits.xen.org/gitweb/?p=osstest.git;a=blob;f=README;hb=master Test harness code can be found at http://xenbits.xen.org/gitweb?p=osstest.git;a=summary Pushing revision : To xenbits.xen.org:/home/xen/git/osstest/ovmf.git fe43b42676..74c687cc2f 74c687cc2f2f29d3bdd454a416624f0ca5a86566 -> xen-tested-master
|
Lists.xenproject.org is hosted with RackSpace, monitoring our |