[Date Prev][Date Next][Thread Prev][Thread Next][Date Index][Thread Index] [ovmf test] 183524: all pass - PUSHED
flight 183524 ovmf real [real] http://logs.test-lab.xenproject.org/osstest/logs/183524/ Perfect :-) All tests in this flight passed as required version targeted for testing: ovmf 1f21e11168dd6a071a92e41ecdffc7cd6e5f3f02 baseline version: ovmf d85bf54b7f462eb0297351b5f8dfde09adf617fb Last test of basis 183516 2023-10-24 17:13:56 Z 0 days Testing same since 183524 2023-10-25 10:14:26 Z 0 days 1 attempts ------------------------------------------------------------ People who touched revisions under test: Abdul Lateef Attar <AbdulLateef.Attar@xxxxxxx> Abner Chang <abner.chang@xxxxxxx> Ceping Sun <cepingx.sun@xxxxxxxxx> Gerd Hoffmann <kraxel@xxxxxxxxxx> Nickle Wang <nicklew@xxxxxxxxxx> jobs: build-amd64-xsm pass build-i386-xsm pass build-amd64 pass build-i386 pass build-amd64-libvirt pass build-i386-libvirt pass build-amd64-pvops pass build-i386-pvops pass test-amd64-amd64-xl-qemuu-ovmf-amd64 pass test-amd64-i386-xl-qemuu-ovmf-amd64 pass ------------------------------------------------------------ sg-report-flight on osstest.test-lab.xenproject.org logs: /home/logs/logs images: /home/logs/images Logs, config files, etc. are available at http://logs.test-lab.xenproject.org/osstest/logs Explanation of these reports, and of osstest in general, is at http://xenbits.xen.org/gitweb/?p=osstest.git;a=blob;f=README.email;hb=master http://xenbits.xen.org/gitweb/?p=osstest.git;a=blob;f=README;hb=master Test harness code can be found at http://xenbits.xen.org/gitweb?p=osstest.git;a=summary Pushing revision : To xenbits.xen.org:/home/xen/git/osstest/ovmf.git d85bf54b7f..1f21e11168 1f21e11168dd6a071a92e41ecdffc7cd6e5f3f02 -> xen-tested-master
|
Lists.xenproject.org is hosted with RackSpace, monitoring our |