[Date Prev][Date Next][Thread Prev][Thread Next][Date Index][Thread Index] [ovmf test] 183339: all pass - PUSHED
flight 183339 ovmf real [real] http://logs.test-lab.xenproject.org/osstest/logs/183339/ Perfect :-) All tests in this flight passed as required version targeted for testing: ovmf 95c9f470ca6eab23bfd016bd438f932d7263d395 baseline version: ovmf 137f799aaed91e592700e0488067292495b7ea7e Last test of basis 183326 2023-10-09 08:42:21 Z 1 days Testing same since 183339 2023-10-11 05:10:50 Z 0 days 1 attempts ------------------------------------------------------------ People who touched revisions under test: Abner Chang <abner.chang@xxxxxxx> Nhi Pham <nhi@xxxxxxxxxxxxxxxxxxxxxx> jobs: build-amd64-xsm pass build-i386-xsm pass build-amd64 pass build-i386 pass build-amd64-libvirt pass build-i386-libvirt pass build-amd64-pvops pass build-i386-pvops pass test-amd64-amd64-xl-qemuu-ovmf-amd64 pass test-amd64-i386-xl-qemuu-ovmf-amd64 pass ------------------------------------------------------------ sg-report-flight on osstest.test-lab.xenproject.org logs: /home/logs/logs images: /home/logs/images Logs, config files, etc. are available at http://logs.test-lab.xenproject.org/osstest/logs Explanation of these reports, and of osstest in general, is at http://xenbits.xen.org/gitweb/?p=osstest.git;a=blob;f=README.email;hb=master http://xenbits.xen.org/gitweb/?p=osstest.git;a=blob;f=README;hb=master Test harness code can be found at http://xenbits.xen.org/gitweb?p=osstest.git;a=summary Pushing revision : To xenbits.xen.org:/home/xen/git/osstest/ovmf.git 137f799aae..95c9f470ca 95c9f470ca6eab23bfd016bd438f932d7263d395 -> xen-tested-master
|
![]() |
Lists.xenproject.org is hosted with RackSpace, monitoring our |