[Date Prev][Date Next][Thread Prev][Thread Next][Date Index][Thread Index] [ovmf test] 183315: all pass - PUSHED
flight 183315 ovmf real [real] http://logs.test-lab.xenproject.org/osstest/logs/183315/ Perfect :-) All tests in this flight passed as required version targeted for testing: ovmf 5087a07736452518a508a7776002afbce360128b baseline version: ovmf 82191f8a0e57f674657c7461189e194b6f863e26 Last test of basis 183307 2023-10-07 00:42:35 Z 0 days Testing same since 183315 2023-10-07 14:12:49 Z 0 days 1 attempts ------------------------------------------------------------ People who touched revisions under test: Laszlo Ersek <lersek@xxxxxxxxxx> jobs: build-amd64-xsm pass build-i386-xsm pass build-amd64 pass build-i386 pass build-amd64-libvirt pass build-i386-libvirt pass build-amd64-pvops pass build-i386-pvops pass test-amd64-amd64-xl-qemuu-ovmf-amd64 pass test-amd64-i386-xl-qemuu-ovmf-amd64 pass ------------------------------------------------------------ sg-report-flight on osstest.test-lab.xenproject.org logs: /home/logs/logs images: /home/logs/images Logs, config files, etc. are available at http://logs.test-lab.xenproject.org/osstest/logs Explanation of these reports, and of osstest in general, is at http://xenbits.xen.org/gitweb/?p=osstest.git;a=blob;f=README.email;hb=master http://xenbits.xen.org/gitweb/?p=osstest.git;a=blob;f=README;hb=master Test harness code can be found at http://xenbits.xen.org/gitweb?p=osstest.git;a=summary Pushing revision : To xenbits.xen.org:/home/xen/git/osstest/ovmf.git 82191f8a0e..5087a07736 5087a07736452518a508a7776002afbce360128b -> xen-tested-master
|
![]() |
Lists.xenproject.org is hosted with RackSpace, monitoring our |