[Date Prev][Date Next][Thread Prev][Thread Next][Date Index][Thread Index] [xtf test] 183251: all pass - PUSHED
flight 183251 xtf real [real] http://logs.test-lab.xenproject.org/osstest/logs/183251/ Perfect :-) All tests in this flight passed as required version targeted for testing: xtf f91cd602586c28f76b04f20fe39c5f001d8d613a baseline version: xtf 164d1083e891247ef90f5cffc615a4bdf3da5785 Last test of basis 183248 2023-10-03 11:10:50 Z 0 days Testing same since 183251 2023-10-03 13:14:07 Z 0 days 1 attempts ------------------------------------------------------------ People who touched revisions under test: Andrew Cooper <andrew.cooper3@xxxxxxxxxx> jobs: build-amd64-xtf pass build-amd64 pass build-amd64-pvops pass test-xtf-amd64-amd64-1 pass test-xtf-amd64-amd64-2 pass test-xtf-amd64-amd64-3 pass test-xtf-amd64-amd64-4 pass test-xtf-amd64-amd64-5 pass ------------------------------------------------------------ sg-report-flight on osstest.test-lab.xenproject.org logs: /home/logs/logs images: /home/logs/images Logs, config files, etc. are available at http://logs.test-lab.xenproject.org/osstest/logs Explanation of these reports, and of osstest in general, is at http://xenbits.xen.org/gitweb/?p=osstest.git;a=blob;f=README.email;hb=master http://xenbits.xen.org/gitweb/?p=osstest.git;a=blob;f=README;hb=master Test harness code can be found at http://xenbits.xen.org/gitweb?p=osstest.git;a=summary Pushing revision : To xenbits.xen.org:/home/xen/git/xtf.git 164d108..f91cd60 f91cd602586c28f76b04f20fe39c5f001d8d613a -> xen-tested-master
|
Lists.xenproject.org is hosted with RackSpace, monitoring our |