[Date Prev][Date Next][Thread Prev][Thread Next][Date Index][Thread Index] [ovmf test] 187460: all pass - PUSHED
flight 187460 ovmf real [real] http://logs.test-lab.xenproject.org/osstest/logs/187460/ Perfect :-) All tests in this flight passed as required version targeted for testing: ovmf 82c5cacd134d64ea0d0f4dabdbbde38017acb70d baseline version: ovmf eaf78e43f206f8587bdf6c0f78c0f021192d5859 Last test of basis 187459 2024-09-02 17:41:31 Z 0 days Testing same since 187460 2024-09-02 21:45:12 Z 0 days 1 attempts ------------------------------------------------------------ People who touched revisions under test: Ken Lautner <kenlautner3@xxxxxxxxx> Kenneth Lautner <kenlautner3@xxxxxxxxx> jobs: build-amd64-xsm pass build-i386-xsm pass build-amd64 pass build-i386 pass build-amd64-libvirt pass build-i386-libvirt pass build-amd64-pvops pass build-i386-pvops pass test-amd64-amd64-xl-qemuu-ovmf-amd64 pass ------------------------------------------------------------ sg-report-flight on osstest.test-lab.xenproject.org logs: /home/logs/logs images: /home/logs/images Logs, config files, etc. are available at http://logs.test-lab.xenproject.org/osstest/logs Explanation of these reports, and of osstest in general, is at http://xenbits.xen.org/gitweb/?p=osstest.git;a=blob;f=README.email;hb=master http://xenbits.xen.org/gitweb/?p=osstest.git;a=blob;f=README;hb=master Test harness code can be found at http://xenbits.xen.org/gitweb?p=osstest.git;a=summary Pushing revision : To xenbits.xen.org:/home/xen/git/osstest/ovmf.git eaf78e43f2..82c5cacd13 82c5cacd134d64ea0d0f4dabdbbde38017acb70d -> xen-tested-master
|
Lists.xenproject.org is hosted with RackSpace, monitoring our |