[Date Prev][Date Next][Thread Prev][Thread Next][Date Index][Thread Index] [ovmf test] 187430: all pass - PUSHED
flight 187430 ovmf real [real] http://logs.test-lab.xenproject.org/osstest/logs/187430/ Perfect :-) All tests in this flight passed as required version targeted for testing: ovmf 5c63e22a9fe268bdfa18d49419cbf43d4ec65b93 baseline version: ovmf 662272ef41fe848a6c0515de6b43e93d3dc5c672 Last test of basis 187429 2024-08-30 23:15:18 Z 0 days Testing same since 187430 2024-08-31 01:11:30 Z 0 days 1 attempts ------------------------------------------------------------ People who touched revisions under test: Dionna Glaze <dionnaglaze@xxxxxxxxxx> jobs: build-amd64-xsm pass build-i386-xsm pass build-amd64 pass build-i386 pass build-amd64-libvirt pass build-i386-libvirt pass build-amd64-pvops pass build-i386-pvops pass test-amd64-amd64-xl-qemuu-ovmf-amd64 pass ------------------------------------------------------------ sg-report-flight on osstest.test-lab.xenproject.org logs: /home/logs/logs images: /home/logs/images Logs, config files, etc. are available at http://logs.test-lab.xenproject.org/osstest/logs Explanation of these reports, and of osstest in general, is at http://xenbits.xen.org/gitweb/?p=osstest.git;a=blob;f=README.email;hb=master http://xenbits.xen.org/gitweb/?p=osstest.git;a=blob;f=README;hb=master Test harness code can be found at http://xenbits.xen.org/gitweb?p=osstest.git;a=summary Pushing revision : To xenbits.xen.org:/home/xen/git/osstest/ovmf.git 662272ef41..5c63e22a9f 5c63e22a9fe268bdfa18d49419cbf43d4ec65b93 -> xen-tested-master
|
![]() |
Lists.xenproject.org is hosted with RackSpace, monitoring our |