[Date Prev][Date Next][Thread Prev][Thread Next][Date Index][Thread Index]

[ovmf test] 187429: all pass - PUSHED



flight 187429 ovmf real [real]
http://logs.test-lab.xenproject.org/osstest/logs/187429/

Perfect :-)
All tests in this flight passed as required
version targeted for testing:
 ovmf                 662272ef41fe848a6c0515de6b43e93d3dc5c672
baseline version:
 ovmf                 f6092b5e2be20139393a58bf454fb000020a3918

Last test of basis   187428  2024-08-30 20:43:23 Z    0 days
Testing same since   187429  2024-08-30 23:15:18 Z    0 days    1 attempts

------------------------------------------------------------
People who touched revisions under test:
  Gerd Hoffmann <kraxel@xxxxxxxxxx>
  Oliver Smith-Denny <osde@xxxxxxxxxxxxxxxxxxx>
  Oliver Smith-Denny <osde@xxxxxxxxxxxxx>

jobs:
 build-amd64-xsm                                              pass    
 build-i386-xsm                                               pass    
 build-amd64                                                  pass    
 build-i386                                                   pass    
 build-amd64-libvirt                                          pass    
 build-i386-libvirt                                           pass    
 build-amd64-pvops                                            pass    
 build-i386-pvops                                             pass    
 test-amd64-amd64-xl-qemuu-ovmf-amd64                         pass    


------------------------------------------------------------
sg-report-flight on osstest.test-lab.xenproject.org
logs: /home/logs/logs
images: /home/logs/images

Logs, config files, etc. are available at
    http://logs.test-lab.xenproject.org/osstest/logs

Explanation of these reports, and of osstest in general, is at
    http://xenbits.xen.org/gitweb/?p=osstest.git;a=blob;f=README.email;hb=master
    http://xenbits.xen.org/gitweb/?p=osstest.git;a=blob;f=README;hb=master

Test harness code can be found at
    http://xenbits.xen.org/gitweb?p=osstest.git;a=summary


Pushing revision :

To xenbits.xen.org:/home/xen/git/osstest/ovmf.git
   f6092b5e2b..662272ef41  662272ef41fe848a6c0515de6b43e93d3dc5c672 -> 
xen-tested-master



 


Rackspace

Lists.xenproject.org is hosted with RackSpace, monitoring our
servers 24x7x365 and backed by RackSpace's Fanatical Support®.