[Date Prev][Date Next][Thread Prev][Thread Next][Date Index][Thread Index] [ovmf test] 187378: all pass - PUSHED
flight 187378 ovmf real [real] http://logs.test-lab.xenproject.org/osstest/logs/187378/ Perfect :-) All tests in this flight passed as required version targeted for testing: ovmf 99e4c8ea93fa0e98bc1bdb968e9d5bb42ff5d39c baseline version: ovmf 25da777d95c0e76b3e0a15ff617870105c228b7b Last test of basis 187375 2024-08-28 04:41:30 Z 0 days Testing same since 187378 2024-08-28 07:13:32 Z 0 days 1 attempts ------------------------------------------------------------ People who touched revisions under test: Chao Li <lichao@xxxxxxxxxxx> jobs: build-amd64-xsm pass build-i386-xsm pass build-amd64 pass build-i386 pass build-amd64-libvirt pass build-i386-libvirt pass build-amd64-pvops pass build-i386-pvops pass test-amd64-amd64-xl-qemuu-ovmf-amd64 pass ------------------------------------------------------------ sg-report-flight on osstest.test-lab.xenproject.org logs: /home/logs/logs images: /home/logs/images Logs, config files, etc. are available at http://logs.test-lab.xenproject.org/osstest/logs Explanation of these reports, and of osstest in general, is at http://xenbits.xen.org/gitweb/?p=osstest.git;a=blob;f=README.email;hb=master http://xenbits.xen.org/gitweb/?p=osstest.git;a=blob;f=README;hb=master Test harness code can be found at http://xenbits.xen.org/gitweb?p=osstest.git;a=summary Pushing revision : To xenbits.xen.org:/home/xen/git/osstest/ovmf.git 25da777d95..99e4c8ea93 99e4c8ea93fa0e98bc1bdb968e9d5bb42ff5d39c -> xen-tested-master
|
Lists.xenproject.org is hosted with RackSpace, monitoring our |