[Date Prev][Date Next][Thread Prev][Thread Next][Date Index][Thread Index]

[ovmf test] 187168: all pass - PUSHED



flight 187168 ovmf real [real]
http://logs.test-lab.xenproject.org/osstest/logs/187168/

Perfect :-)
All tests in this flight passed as required
version targeted for testing:
 ovmf                 a29a9cce5f9afa32560d966e501247246ec96ef6
baseline version:
 ovmf                 472be4d139b26c50949cf30eeb47640810e5ef2c

Last test of basis   187166  2024-08-06 03:43:14 Z    0 days
Testing same since   187168  2024-08-06 06:11:29 Z    0 days    1 attempts

------------------------------------------------------------
People who touched revisions under test:
  Aaron Pop <aaronpop@xxxxxxxxxxxxx>
  kuqin12 <42554914+kuqin12@xxxxxxxxxxxxxxxxxxxxxxxx>

jobs:
 build-amd64-xsm                                              pass    
 build-i386-xsm                                               pass    
 build-amd64                                                  pass    
 build-i386                                                   pass    
 build-amd64-libvirt                                          pass    
 build-i386-libvirt                                           pass    
 build-amd64-pvops                                            pass    
 build-i386-pvops                                             pass    
 test-amd64-amd64-xl-qemuu-ovmf-amd64                         pass    


------------------------------------------------------------
sg-report-flight on osstest.test-lab.xenproject.org
logs: /home/logs/logs
images: /home/logs/images

Logs, config files, etc. are available at
    http://logs.test-lab.xenproject.org/osstest/logs

Explanation of these reports, and of osstest in general, is at
    http://xenbits.xen.org/gitweb/?p=osstest.git;a=blob;f=README.email;hb=master
    http://xenbits.xen.org/gitweb/?p=osstest.git;a=blob;f=README;hb=master

Test harness code can be found at
    http://xenbits.xen.org/gitweb?p=osstest.git;a=summary


Pushing revision :

To xenbits.xen.org:/home/xen/git/osstest/ovmf.git
   472be4d139..a29a9cce5f  a29a9cce5f9afa32560d966e501247246ec96ef6 -> 
xen-tested-master



 


Rackspace

Lists.xenproject.org is hosted with RackSpace, monitoring our
servers 24x7x365 and backed by RackSpace's Fanatical Support®.