[Date Prev][Date Next][Thread Prev][Thread Next][Date Index][Thread Index] [ovmf test] 187122: all pass - PUSHED
flight 187122 ovmf real [real] http://logs.test-lab.xenproject.org/osstest/logs/187122/ Perfect :-) All tests in this flight passed as required version targeted for testing: ovmf 24a375fcdd26ce5a36bde69b92f638420fddf9c8 baseline version: ovmf 4f5de749cb2247a4ead21523f2d9deb389291636 Last test of basis 187120 2024-08-02 08:11:33 Z 0 days Testing same since 187122 2024-08-02 10:13:19 Z 0 days 1 attempts ------------------------------------------------------------ People who touched revisions under test: Jiaxin Wu <jiaxin.wu@xxxxxxxxx> jobs: build-amd64-xsm pass build-i386-xsm pass build-amd64 pass build-i386 pass build-amd64-libvirt pass build-i386-libvirt pass build-amd64-pvops pass build-i386-pvops pass test-amd64-amd64-xl-qemuu-ovmf-amd64 pass ------------------------------------------------------------ sg-report-flight on osstest.test-lab.xenproject.org logs: /home/logs/logs images: /home/logs/images Logs, config files, etc. are available at http://logs.test-lab.xenproject.org/osstest/logs Explanation of these reports, and of osstest in general, is at http://xenbits.xen.org/gitweb/?p=osstest.git;a=blob;f=README.email;hb=master http://xenbits.xen.org/gitweb/?p=osstest.git;a=blob;f=README;hb=master Test harness code can be found at http://xenbits.xen.org/gitweb?p=osstest.git;a=summary Pushing revision : To xenbits.xen.org:/home/xen/git/osstest/ovmf.git 4f5de749cb..24a375fcdd 24a375fcdd26ce5a36bde69b92f638420fddf9c8 -> xen-tested-master
|
![]() |
Lists.xenproject.org is hosted with RackSpace, monitoring our |