[Date Prev][Date Next][Thread Prev][Thread Next][Date Index][Thread Index] [ovmf test] 187109: all pass - PUSHED
flight 187109 ovmf real [real] http://logs.test-lab.xenproject.org/osstest/logs/187109/ Perfect :-) All tests in this flight passed as required version targeted for testing: ovmf 2d5390053ff934ec1e94b84f5bb67400b3b75841 baseline version: ovmf a679ceca974e94a659f9b6b9e7a7900644220ef9 Last test of basis 187108 2024-08-01 13:45:09 Z 0 days Testing same since 187109 2024-08-01 15:41:27 Z 0 days 1 attempts ------------------------------------------------------------ People who touched revisions under test: Ard Biesheuvel <ardb@xxxxxxxxxx> jobs: build-amd64-xsm pass build-i386-xsm pass build-amd64 pass build-i386 pass build-amd64-libvirt pass build-i386-libvirt pass build-amd64-pvops pass build-i386-pvops pass test-amd64-amd64-xl-qemuu-ovmf-amd64 pass ------------------------------------------------------------ sg-report-flight on osstest.test-lab.xenproject.org logs: /home/logs/logs images: /home/logs/images Logs, config files, etc. are available at http://logs.test-lab.xenproject.org/osstest/logs Explanation of these reports, and of osstest in general, is at http://xenbits.xen.org/gitweb/?p=osstest.git;a=blob;f=README.email;hb=master http://xenbits.xen.org/gitweb/?p=osstest.git;a=blob;f=README;hb=master Test harness code can be found at http://xenbits.xen.org/gitweb?p=osstest.git;a=summary Pushing revision : To xenbits.xen.org:/home/xen/git/osstest/ovmf.git a679ceca97..2d5390053f 2d5390053ff934ec1e94b84f5bb67400b3b75841 -> xen-tested-master
|
Lists.xenproject.org is hosted with RackSpace, monitoring our |