[Date Prev][Date Next][Thread Prev][Thread Next][Date Index][Thread Index] [ovmf test] 187093: all pass - PUSHED
flight 187093 ovmf real [real] http://logs.test-lab.xenproject.org/osstest/logs/187093/ Perfect :-) All tests in this flight passed as required version targeted for testing: ovmf eed43245dfdd6d616f7a7d72ba4ca52de3d59584 baseline version: ovmf a9158fe9a670cebbb9d361a1b7fc3075fdf33393 Last test of basis 187090 2024-07-31 20:15:41 Z 0 days Testing same since 187093 2024-07-31 23:11:29 Z 0 days 1 attempts ------------------------------------------------------------ People who touched revisions under test: Michael Kubacki <michael.kubacki@xxxxxxxxxxxxx> jobs: build-amd64-xsm pass build-i386-xsm pass build-amd64 pass build-i386 pass build-amd64-libvirt pass build-i386-libvirt pass build-amd64-pvops pass build-i386-pvops pass test-amd64-amd64-xl-qemuu-ovmf-amd64 pass ------------------------------------------------------------ sg-report-flight on osstest.test-lab.xenproject.org logs: /home/logs/logs images: /home/logs/images Logs, config files, etc. are available at http://logs.test-lab.xenproject.org/osstest/logs Explanation of these reports, and of osstest in general, is at http://xenbits.xen.org/gitweb/?p=osstest.git;a=blob;f=README.email;hb=master http://xenbits.xen.org/gitweb/?p=osstest.git;a=blob;f=README;hb=master Test harness code can be found at http://xenbits.xen.org/gitweb?p=osstest.git;a=summary Pushing revision : To xenbits.xen.org:/home/xen/git/osstest/ovmf.git a9158fe9a6..eed43245df eed43245dfdd6d616f7a7d72ba4ca52de3d59584 -> xen-tested-master
|
![]() |
Lists.xenproject.org is hosted with RackSpace, monitoring our |