[Date Prev][Date Next][Thread Prev][Thread Next][Date Index][Thread Index] [ovmf test] 187085: all pass - PUSHED
flight 187085 ovmf real [real] http://logs.test-lab.xenproject.org/osstest/logs/187085/ Perfect :-) All tests in this flight passed as required version targeted for testing: ovmf 1fc55a3933b0d17430c2857629ee54abefaad7eb baseline version: ovmf 02f7ecbbb2da356585f5c4df4a5e7aa64a6b985d Last test of basis 187079 2024-07-31 12:11:29 Z 0 days Testing same since 187085 2024-07-31 14:43:21 Z 0 days 1 attempts ------------------------------------------------------------ People who touched revisions under test: Sami Mujawar <sami.mujawar@xxxxxxx> jobs: build-amd64-xsm pass build-i386-xsm pass build-amd64 pass build-i386 pass build-amd64-libvirt pass build-i386-libvirt pass build-amd64-pvops pass build-i386-pvops pass test-amd64-amd64-xl-qemuu-ovmf-amd64 pass ------------------------------------------------------------ sg-report-flight on osstest.test-lab.xenproject.org logs: /home/logs/logs images: /home/logs/images Logs, config files, etc. are available at http://logs.test-lab.xenproject.org/osstest/logs Explanation of these reports, and of osstest in general, is at http://xenbits.xen.org/gitweb/?p=osstest.git;a=blob;f=README.email;hb=master http://xenbits.xen.org/gitweb/?p=osstest.git;a=blob;f=README;hb=master Test harness code can be found at http://xenbits.xen.org/gitweb?p=osstest.git;a=summary Pushing revision : To xenbits.xen.org:/home/xen/git/osstest/ovmf.git 02f7ecbbb2..1fc55a3933 1fc55a3933b0d17430c2857629ee54abefaad7eb -> xen-tested-master
|
![]() |
Lists.xenproject.org is hosted with RackSpace, monitoring our |