[Date Prev][Date Next][Thread Prev][Thread Next][Date Index][Thread Index] [xtf test] 186986: all pass - PUSHED
flight 186986 xtf real [real] http://logs.test-lab.xenproject.org/osstest/logs/186986/ Perfect :-) All tests in this flight passed as required version targeted for testing: xtf 4172faef1c0dee027ddd3ffdbc88fe20eb711e9c baseline version: xtf 3955325292f49257797f339cfdcb84748550e069 Last test of basis 184862 2024-03-03 00:41:25 Z 143 days Testing same since 186986 2024-07-24 18:11:37 Z 0 days 1 attempts ------------------------------------------------------------ People who touched revisions under test: Andrew Cooper <andrew.cooper3@xxxxxxxxxx> jobs: build-amd64-xtf pass build-amd64 pass build-amd64-pvops pass test-xtf-amd64-amd64-1 pass test-xtf-amd64-amd64-2 pass test-xtf-amd64-amd64-3 pass test-xtf-amd64-amd64-4 pass test-xtf-amd64-amd64-5 pass ------------------------------------------------------------ sg-report-flight on osstest.test-lab.xenproject.org logs: /home/logs/logs images: /home/logs/images Logs, config files, etc. are available at http://logs.test-lab.xenproject.org/osstest/logs Explanation of these reports, and of osstest in general, is at http://xenbits.xen.org/gitweb/?p=osstest.git;a=blob;f=README.email;hb=master http://xenbits.xen.org/gitweb/?p=osstest.git;a=blob;f=README;hb=master Test harness code can be found at http://xenbits.xen.org/gitweb?p=osstest.git;a=summary Pushing revision : To xenbits.xen.org:/home/xen/git/xtf.git 3955325..4172fae 4172faef1c0dee027ddd3ffdbc88fe20eb711e9c -> xen-tested-master
|
![]() |
Lists.xenproject.org is hosted with RackSpace, monitoring our |