[Date Prev][Date Next][Thread Prev][Thread Next][Date Index][Thread Index] [ovmf test] 186805: all pass - PUSHED
flight 186805 ovmf real [real] http://logs.test-lab.xenproject.org/osstest/logs/186805/ Perfect :-) All tests in this flight passed as required version targeted for testing: ovmf 8bb9145ad1a5db068f63e3e19b4a532226351b2b baseline version: ovmf 91226e1eecacac832e5091d6a1867dc52666ee85 Last test of basis 186801 2024-07-15 04:13:14 Z 0 days Testing same since 186805 2024-07-15 08:41:18 Z 0 days 1 attempts ------------------------------------------------------------ People who touched revisions under test: Chao Li <lichao@xxxxxxxxxxx> jobs: build-amd64-xsm pass build-i386-xsm pass build-amd64 pass build-i386 pass build-amd64-libvirt pass build-i386-libvirt pass build-amd64-pvops pass build-i386-pvops pass test-amd64-amd64-xl-qemuu-ovmf-amd64 pass ------------------------------------------------------------ sg-report-flight on osstest.test-lab.xenproject.org logs: /home/logs/logs images: /home/logs/images Logs, config files, etc. are available at http://logs.test-lab.xenproject.org/osstest/logs Explanation of these reports, and of osstest in general, is at http://xenbits.xen.org/gitweb/?p=osstest.git;a=blob;f=README.email;hb=master http://xenbits.xen.org/gitweb/?p=osstest.git;a=blob;f=README;hb=master Test harness code can be found at http://xenbits.xen.org/gitweb?p=osstest.git;a=summary Pushing revision : To xenbits.xen.org:/home/xen/git/osstest/ovmf.git 91226e1eec..8bb9145ad1 8bb9145ad1a5db068f63e3e19b4a532226351b2b -> xen-tested-master
|
![]() |
Lists.xenproject.org is hosted with RackSpace, monitoring our |