[Date Prev][Date Next][Thread Prev][Thread Next][Date Index][Thread Index] [ovmf test] 186443: all pass - PUSHED
flight 186443 ovmf real [real] http://logs.test-lab.xenproject.org/osstest/logs/186443/ Perfect :-) All tests in this flight passed as required version targeted for testing: ovmf be38c01da2dd949e0a6f8bceeb88d2e19c8c65f7 baseline version: ovmf d512bd31293c7f2aeef9b60fb6f112d0e90adff3 Last test of basis 186440 2024-06-21 03:11:13 Z 0 days Testing same since 186443 2024-06-21 07:11:06 Z 0 days 1 attempts ------------------------------------------------------------ People who touched revisions under test: Mike Maslenkin <mike.maslenkin@xxxxxxxxx> jobs: build-amd64-xsm pass build-i386-xsm pass build-amd64 pass build-i386 pass build-amd64-libvirt pass build-i386-libvirt pass build-amd64-pvops pass build-i386-pvops pass test-amd64-amd64-xl-qemuu-ovmf-amd64 pass ------------------------------------------------------------ sg-report-flight on osstest.test-lab.xenproject.org logs: /home/logs/logs images: /home/logs/images Logs, config files, etc. are available at http://logs.test-lab.xenproject.org/osstest/logs Explanation of these reports, and of osstest in general, is at http://xenbits.xen.org/gitweb/?p=osstest.git;a=blob;f=README.email;hb=master http://xenbits.xen.org/gitweb/?p=osstest.git;a=blob;f=README;hb=master Test harness code can be found at http://xenbits.xen.org/gitweb?p=osstest.git;a=summary Pushing revision : To xenbits.xen.org:/home/xen/git/osstest/ovmf.git d512bd3129..be38c01da2 be38c01da2dd949e0a6f8bceeb88d2e19c8c65f7 -> xen-tested-master
|
Lists.xenproject.org is hosted with RackSpace, monitoring our |