[Date Prev][Date Next][Thread Prev][Thread Next][Date Index][Thread Index] [ovmf test] 186394: all pass - PUSHED
flight 186394 ovmf real [real] http://logs.test-lab.xenproject.org/osstest/logs/186394/ Perfect :-) All tests in this flight passed as required version targeted for testing: ovmf b0c5781671f322472836ff25ee11242f59aa9945 baseline version: ovmf 176b9d41f8f71c7572dab615a8d5259dd2cbc02a Last test of basis 186392 2024-06-18 07:42:57 Z 0 days Testing same since 186394 2024-06-18 11:42:54 Z 0 days 1 attempts ------------------------------------------------------------ People who touched revisions under test: Rebecca Cran <rebecca@xxxxxxxxx> jobs: build-amd64-xsm pass build-i386-xsm pass build-amd64 pass build-i386 pass build-amd64-libvirt pass build-i386-libvirt pass build-amd64-pvops pass build-i386-pvops pass test-amd64-amd64-xl-qemuu-ovmf-amd64 pass ------------------------------------------------------------ sg-report-flight on osstest.test-lab.xenproject.org logs: /home/logs/logs images: /home/logs/images Logs, config files, etc. are available at http://logs.test-lab.xenproject.org/osstest/logs Explanation of these reports, and of osstest in general, is at http://xenbits.xen.org/gitweb/?p=osstest.git;a=blob;f=README.email;hb=master http://xenbits.xen.org/gitweb/?p=osstest.git;a=blob;f=README;hb=master Test harness code can be found at http://xenbits.xen.org/gitweb?p=osstest.git;a=summary Pushing revision : To xenbits.xen.org:/home/xen/git/osstest/ovmf.git 176b9d41f8..b0c5781671 b0c5781671f322472836ff25ee11242f59aa9945 -> xen-tested-master
|
![]() |
Lists.xenproject.org is hosted with RackSpace, monitoring our |