[Date Prev][Date Next][Thread Prev][Thread Next][Date Index][Thread Index] [ovmf test] 186266: all pass - PUSHED
flight 186266 ovmf real [real] http://logs.test-lab.xenproject.org/osstest/logs/186266/ Perfect :-) All tests in this flight passed as required version targeted for testing: ovmf 90cb1ec33225a070e9fea1d94c72ff590bd38731 baseline version: ovmf 65b0d08786888284cd1bb705c58f53a65ae443b0 Last test of basis 186264 2024-06-06 06:12:55 Z 0 days Testing same since 186266 2024-06-06 09:12:51 Z 0 days 1 attempts ------------------------------------------------------------ People who touched revisions under test: Gerd Hoffmann <kraxel@xxxxxxxxxx> jobs: build-amd64-xsm pass build-i386-xsm pass build-amd64 pass build-i386 pass build-amd64-libvirt pass build-i386-libvirt pass build-amd64-pvops pass build-i386-pvops pass test-amd64-amd64-xl-qemuu-ovmf-amd64 pass ------------------------------------------------------------ sg-report-flight on osstest.test-lab.xenproject.org logs: /home/logs/logs images: /home/logs/images Logs, config files, etc. are available at http://logs.test-lab.xenproject.org/osstest/logs Explanation of these reports, and of osstest in general, is at http://xenbits.xen.org/gitweb/?p=osstest.git;a=blob;f=README.email;hb=master http://xenbits.xen.org/gitweb/?p=osstest.git;a=blob;f=README;hb=master Test harness code can be found at http://xenbits.xen.org/gitweb?p=osstest.git;a=summary Pushing revision : To xenbits.xen.org:/home/xen/git/osstest/ovmf.git 65b0d08786..90cb1ec332 90cb1ec33225a070e9fea1d94c72ff590bd38731 -> xen-tested-master
|
![]() |
Lists.xenproject.org is hosted with RackSpace, monitoring our |