[Date Prev][Date Next][Thread Prev][Thread Next][Date Index][Thread Index] [ovmf test] 186256: all pass - PUSHED
flight 186256 ovmf real [real] http://logs.test-lab.xenproject.org/osstest/logs/186256/ Perfect :-) All tests in this flight passed as required version targeted for testing: ovmf 10cd8b45ce36152996bcb1520ba36107a8cdc63f baseline version: ovmf e2e09d8512898709a3d076fdd36c8abee2734027 Last test of basis 186254 2024-06-05 03:41:14 Z 0 days Testing same since 186256 2024-06-05 12:44:34 Z 0 days 1 attempts ------------------------------------------------------------ People who touched revisions under test: Neo Hsueh <Hong-Chih.Hsueh@xxxxxxx> jobs: build-amd64-xsm pass build-i386-xsm pass build-amd64 pass build-i386 pass build-amd64-libvirt pass build-i386-libvirt pass build-amd64-pvops pass build-i386-pvops pass test-amd64-amd64-xl-qemuu-ovmf-amd64 pass ------------------------------------------------------------ sg-report-flight on osstest.test-lab.xenproject.org logs: /home/logs/logs images: /home/logs/images Logs, config files, etc. are available at http://logs.test-lab.xenproject.org/osstest/logs Explanation of these reports, and of osstest in general, is at http://xenbits.xen.org/gitweb/?p=osstest.git;a=blob;f=README.email;hb=master http://xenbits.xen.org/gitweb/?p=osstest.git;a=blob;f=README;hb=master Test harness code can be found at http://xenbits.xen.org/gitweb?p=osstest.git;a=summary Pushing revision : To xenbits.xen.org:/home/xen/git/osstest/ovmf.git e2e09d8512..10cd8b45ce 10cd8b45ce36152996bcb1520ba36107a8cdc63f -> xen-tested-master
|
![]() |
Lists.xenproject.org is hosted with RackSpace, monitoring our |