[Date Prev][Date Next][Thread Prev][Thread Next][Date Index][Thread Index] [ovmf test] 185967: all pass - PUSHED
flight 185967 ovmf real [real] http://logs.test-lab.xenproject.org/osstest/logs/185967/ Perfect :-) All tests in this flight passed as required version targeted for testing: ovmf 4b6ee06a090d956f80b4a92fb9bf03098a372f39 baseline version: ovmf 3c0b84420f098c5a88281a6be370c2766184c99b Last test of basis 185963 2024-05-10 01:11:14 Z 0 days Testing same since 185967 2024-05-10 04:11:12 Z 0 days 1 attempts ------------------------------------------------------------ People who touched revisions under test: Hongbin1 Zhang <hongbin1.zhang@xxxxxxxxx> Ray Ni <ray.ni@xxxxxxxxx> jobs: build-amd64-xsm pass build-i386-xsm pass build-amd64 pass build-i386 pass build-amd64-libvirt pass build-i386-libvirt pass build-amd64-pvops pass build-i386-pvops pass test-amd64-amd64-xl-qemuu-ovmf-amd64 pass ------------------------------------------------------------ sg-report-flight on osstest.test-lab.xenproject.org logs: /home/logs/logs images: /home/logs/images Logs, config files, etc. are available at http://logs.test-lab.xenproject.org/osstest/logs Explanation of these reports, and of osstest in general, is at http://xenbits.xen.org/gitweb/?p=osstest.git;a=blob;f=README.email;hb=master http://xenbits.xen.org/gitweb/?p=osstest.git;a=blob;f=README;hb=master Test harness code can be found at http://xenbits.xen.org/gitweb?p=osstest.git;a=summary Pushing revision : To xenbits.xen.org:/home/xen/git/osstest/ovmf.git 3c0b84420f..4b6ee06a09 4b6ee06a090d956f80b4a92fb9bf03098a372f39 -> xen-tested-master
|
![]() |
Lists.xenproject.org is hosted with RackSpace, monitoring our |