[Date Prev][Date Next][Thread Prev][Thread Next][Date Index][Thread Index] [ovmf test] 185873: all pass - PUSHED
flight 185873 ovmf real [real] http://logs.test-lab.xenproject.org/osstest/logs/185873/ Perfect :-) All tests in this flight passed as required version targeted for testing: ovmf 88781ccd744c73acbbbe9767627860a538b9f3a2 baseline version: ovmf 094727264f887e275444bd11d9d99c651a85c2e4 Last test of basis 185868 2024-04-29 10:45:51 Z 0 days Testing same since 185873 2024-04-30 02:41:15 Z 0 days 1 attempts ------------------------------------------------------------ People who touched revisions under test: Wenxing Hou <wenxing.hou@xxxxxxxxx> jobs: build-amd64-xsm pass build-i386-xsm pass build-amd64 pass build-i386 pass build-amd64-libvirt pass build-i386-libvirt pass build-amd64-pvops pass build-i386-pvops pass test-amd64-amd64-xl-qemuu-ovmf-amd64 pass ------------------------------------------------------------ sg-report-flight on osstest.test-lab.xenproject.org logs: /home/logs/logs images: /home/logs/images Logs, config files, etc. are available at http://logs.test-lab.xenproject.org/osstest/logs Explanation of these reports, and of osstest in general, is at http://xenbits.xen.org/gitweb/?p=osstest.git;a=blob;f=README.email;hb=master http://xenbits.xen.org/gitweb/?p=osstest.git;a=blob;f=README;hb=master Test harness code can be found at http://xenbits.xen.org/gitweb?p=osstest.git;a=summary Pushing revision : To xenbits.xen.org:/home/xen/git/osstest/ovmf.git 094727264f..88781ccd74 88781ccd744c73acbbbe9767627860a538b9f3a2 -> xen-tested-master
|
![]() |
Lists.xenproject.org is hosted with RackSpace, monitoring our |