[Date Prev][Date Next][Thread Prev][Thread Next][Date Index][Thread Index] [ovmf test] 185789: all pass - PUSHED
flight 185789 ovmf real [real] http://logs.test-lab.xenproject.org/osstest/logs/185789/ Perfect :-) All tests in this flight passed as required version targeted for testing: ovmf 90b6725562c82ec630d9e0cb19078f4b507db10b baseline version: ovmf d97f964f7ce063f9861f4d21cc6352f6861f95a8 Last test of basis 185776 2024-04-23 21:41:06 Z 1 days Testing same since 185789 2024-04-24 23:42:57 Z 0 days 1 attempts ------------------------------------------------------------ People who touched revisions under test: Michael Kubacki <michael.kubacki@xxxxxxxxxxxxx> jobs: build-amd64-xsm pass build-i386-xsm pass build-amd64 pass build-i386 pass build-amd64-libvirt pass build-i386-libvirt pass build-amd64-pvops pass build-i386-pvops pass test-amd64-amd64-xl-qemuu-ovmf-amd64 pass ------------------------------------------------------------ sg-report-flight on osstest.test-lab.xenproject.org logs: /home/logs/logs images: /home/logs/images Logs, config files, etc. are available at http://logs.test-lab.xenproject.org/osstest/logs Explanation of these reports, and of osstest in general, is at http://xenbits.xen.org/gitweb/?p=osstest.git;a=blob;f=README.email;hb=master http://xenbits.xen.org/gitweb/?p=osstest.git;a=blob;f=README;hb=master Test harness code can be found at http://xenbits.xen.org/gitweb?p=osstest.git;a=summary Pushing revision : To xenbits.xen.org:/home/xen/git/osstest/ovmf.git d97f964f7c..90b6725562 90b6725562c82ec630d9e0cb19078f4b507db10b -> xen-tested-master
|
Lists.xenproject.org is hosted with RackSpace, monitoring our |