[Date Prev][Date Next][Thread Prev][Thread Next][Date Index][Thread Index] [xtf test] 184809: all pass - PUSHED
flight 184809 xtf real [real] http://logs.test-lab.xenproject.org/osstest/logs/184809/ Perfect :-) All tests in this flight passed as required version targeted for testing: xtf ad98fbacc7ed6b709f87bf0ef64b81eafb557cce baseline version: xtf d1de27cf787e9c86610b11f6fe13d90f5ca91e27 Last test of basis 184556 2024-02-01 19:13:08 Z 27 days Testing same since 184809 2024-02-28 17:41:19 Z 0 days 1 attempts ------------------------------------------------------------ People who touched revisions under test: Andrew Cooper <andrew.cooper3@xxxxxxxxxx> jobs: build-amd64-xtf pass build-amd64 pass build-amd64-pvops pass test-xtf-amd64-amd64-1 pass test-xtf-amd64-amd64-2 pass test-xtf-amd64-amd64-3 pass test-xtf-amd64-amd64-4 pass test-xtf-amd64-amd64-5 pass ------------------------------------------------------------ sg-report-flight on osstest.test-lab.xenproject.org logs: /home/logs/logs images: /home/logs/images Logs, config files, etc. are available at http://logs.test-lab.xenproject.org/osstest/logs Explanation of these reports, and of osstest in general, is at http://xenbits.xen.org/gitweb/?p=osstest.git;a=blob;f=README.email;hb=master http://xenbits.xen.org/gitweb/?p=osstest.git;a=blob;f=README;hb=master Test harness code can be found at http://xenbits.xen.org/gitweb?p=osstest.git;a=summary Pushing revision : To xenbits.xen.org:/home/xen/git/xtf.git d1de27c..ad98fba ad98fbacc7ed6b709f87bf0ef64b81eafb557cce -> xen-tested-master
|
![]() |
Lists.xenproject.org is hosted with RackSpace, monitoring our |