[Date Prev][Date Next][Thread Prev][Thread Next][Date Index][Thread Index] [ovmf test] 184782: all pass - PUSHED
flight 184782 ovmf real [real] http://logs.test-lab.xenproject.org/osstest/logs/184782/ Perfect :-) All tests in this flight passed as required version targeted for testing: ovmf ba9c3ceaf83d3ee448b2fd38bc9ad28b690c697a baseline version: ovmf 74b5309da9fb7a919bec5a8b5a63d1ede5eb6745 Last test of basis 184778 2024-02-27 07:44:39 Z 0 days Testing same since 184782 2024-02-27 12:43:39 Z 0 days 1 attempts ------------------------------------------------------------ People who touched revisions under test: Tuan Phan <tphan@xxxxxxxxxxxxxxxx> jobs: build-amd64-xsm pass build-i386-xsm pass build-amd64 pass build-i386 pass build-amd64-libvirt pass build-i386-libvirt pass build-amd64-pvops pass build-i386-pvops pass test-amd64-amd64-xl-qemuu-ovmf-amd64 pass test-amd64-i386-xl-qemuu-ovmf-amd64 pass ------------------------------------------------------------ sg-report-flight on osstest.test-lab.xenproject.org logs: /home/logs/logs images: /home/logs/images Logs, config files, etc. are available at http://logs.test-lab.xenproject.org/osstest/logs Explanation of these reports, and of osstest in general, is at http://xenbits.xen.org/gitweb/?p=osstest.git;a=blob;f=README.email;hb=master http://xenbits.xen.org/gitweb/?p=osstest.git;a=blob;f=README;hb=master Test harness code can be found at http://xenbits.xen.org/gitweb?p=osstest.git;a=summary Pushing revision : To xenbits.xen.org:/home/xen/git/osstest/ovmf.git 74b5309da9..ba9c3ceaf8 ba9c3ceaf83d3ee448b2fd38bc9ad28b690c697a -> xen-tested-master
|
![]() |
Lists.xenproject.org is hosted with RackSpace, monitoring our |