[Date Prev][Date Next][Thread Prev][Thread Next][Date Index][Thread Index] [ovmf test] 184629: all pass - PUSHED
flight 184629 ovmf real [real] http://logs.test-lab.xenproject.org/osstest/logs/184629/ Perfect :-) All tests in this flight passed as required version targeted for testing: ovmf e32b58ab5a12d37c82327f28376e7d12cccc8b3a baseline version: ovmf 8f316e99ec8de9dea294f6751dd7457f9f1a828c Last test of basis 184623 2024-02-08 04:13:04 Z 0 days Testing same since 184629 2024-02-08 19:43:01 Z 0 days 1 attempts ------------------------------------------------------------ People who touched revisions under test: Ashraf Ali S <ashraf.ali.s@xxxxxxxxx> jobs: build-amd64-xsm pass build-i386-xsm pass build-amd64 pass build-i386 pass build-amd64-libvirt pass build-i386-libvirt pass build-amd64-pvops pass build-i386-pvops pass test-amd64-amd64-xl-qemuu-ovmf-amd64 pass test-amd64-i386-xl-qemuu-ovmf-amd64 pass ------------------------------------------------------------ sg-report-flight on osstest.test-lab.xenproject.org logs: /home/logs/logs images: /home/logs/images Logs, config files, etc. are available at http://logs.test-lab.xenproject.org/osstest/logs Explanation of these reports, and of osstest in general, is at http://xenbits.xen.org/gitweb/?p=osstest.git;a=blob;f=README.email;hb=master http://xenbits.xen.org/gitweb/?p=osstest.git;a=blob;f=README;hb=master Test harness code can be found at http://xenbits.xen.org/gitweb?p=osstest.git;a=summary Pushing revision : To xenbits.xen.org:/home/xen/git/osstest/ovmf.git 8f316e99ec..e32b58ab5a e32b58ab5a12d37c82327f28376e7d12cccc8b3a -> xen-tested-master
|
![]() |
Lists.xenproject.org is hosted with RackSpace, monitoring our |