[Date Prev][Date Next][Thread Prev][Thread Next][Date Index][Thread Index] [ovmf test] 184538: all pass - PUSHED
flight 184538 ovmf real [real] http://logs.test-lab.xenproject.org/osstest/logs/184538/ Perfect :-) All tests in this flight passed as required version targeted for testing: ovmf af6e0e728f652f496a6fb1e659617c9662f774ac baseline version: ovmf 909a9a5ae4b8236c1ca7cad7f214c752a579bd67 Last test of basis 184533 2024-01-30 15:12:47 Z 0 days Testing same since 184538 2024-01-31 04:36:38 Z 0 days 1 attempts ------------------------------------------------------------ People who touched revisions under test: Michael D Kinney <michael.d.kinney@xxxxxxxxx> jobs: build-amd64-xsm pass build-i386-xsm pass build-amd64 pass build-i386 pass build-amd64-libvirt pass build-i386-libvirt pass build-amd64-pvops pass build-i386-pvops pass test-amd64-amd64-xl-qemuu-ovmf-amd64 pass test-amd64-i386-xl-qemuu-ovmf-amd64 pass ------------------------------------------------------------ sg-report-flight on osstest.test-lab.xenproject.org logs: /home/logs/logs images: /home/logs/images Logs, config files, etc. are available at http://logs.test-lab.xenproject.org/osstest/logs Explanation of these reports, and of osstest in general, is at http://xenbits.xen.org/gitweb/?p=osstest.git;a=blob;f=README.email;hb=master http://xenbits.xen.org/gitweb/?p=osstest.git;a=blob;f=README;hb=master Test harness code can be found at http://xenbits.xen.org/gitweb?p=osstest.git;a=summary Pushing revision : To xenbits.xen.org:/home/xen/git/osstest/ovmf.git 909a9a5ae4..af6e0e728f af6e0e728f652f496a6fb1e659617c9662f774ac -> xen-tested-master
|
Lists.xenproject.org is hosted with RackSpace, monitoring our |