[Date Prev][Date Next][Thread Prev][Thread Next][Date Index][Thread Index] [ovmf test] 184533: all pass - PUSHED
flight 184533 ovmf real [real] http://logs.test-lab.xenproject.org/osstest/logs/184533/ Perfect :-) All tests in this flight passed as required version targeted for testing: ovmf 909a9a5ae4b8236c1ca7cad7f214c752a579bd67 baseline version: ovmf 98c7cb3be73d0f15151133abe91bc880a4400794 Last test of basis 184522 2024-01-29 22:12:44 Z 1 days Testing same since 184533 2024-01-30 15:12:47 Z 0 days 1 attempts ------------------------------------------------------------ People who touched revisions under test: Rebecca Cran <rebecca@xxxxxxxxxxxxxxxxxxxxxx> jobs: build-amd64-xsm pass build-i386-xsm pass build-amd64 pass build-i386 pass build-amd64-libvirt pass build-i386-libvirt pass build-amd64-pvops pass build-i386-pvops pass test-amd64-amd64-xl-qemuu-ovmf-amd64 pass test-amd64-i386-xl-qemuu-ovmf-amd64 pass ------------------------------------------------------------ sg-report-flight on osstest.test-lab.xenproject.org logs: /home/logs/logs images: /home/logs/images Logs, config files, etc. are available at http://logs.test-lab.xenproject.org/osstest/logs Explanation of these reports, and of osstest in general, is at http://xenbits.xen.org/gitweb/?p=osstest.git;a=blob;f=README.email;hb=master http://xenbits.xen.org/gitweb/?p=osstest.git;a=blob;f=README;hb=master Test harness code can be found at http://xenbits.xen.org/gitweb?p=osstest.git;a=summary Pushing revision : To xenbits.xen.org:/home/xen/git/osstest/ovmf.git 98c7cb3be7..909a9a5ae4 909a9a5ae4b8236c1ca7cad7f214c752a579bd67 -> xen-tested-master
|
![]() |
Lists.xenproject.org is hosted with RackSpace, monitoring our |