[Date Prev][Date Next][Thread Prev][Thread Next][Date Index][Thread Index] [ovmf test] 184366: all pass - PUSHED
flight 184366 ovmf real [real] http://logs.test-lab.xenproject.org/osstest/logs/184366/ Perfect :-) All tests in this flight passed as required version targeted for testing: ovmf 682a5ed1a229443a259da2df9f961a0448071e3e baseline version: ovmf 7c2757c298b40f5d7bad8da3faff7bb9c47ce2ae Last test of basis 184364 2024-01-15 20:12:55 Z 0 days Testing same since 184366 2024-01-16 01:42:48 Z 0 days 1 attempts ------------------------------------------------------------ People who touched revisions under test: Suqiang Ren <suqiangx.ren@xxxxxxxxx> jobs: build-amd64-xsm pass build-i386-xsm pass build-amd64 pass build-i386 pass build-amd64-libvirt pass build-i386-libvirt pass build-amd64-pvops pass build-i386-pvops pass test-amd64-amd64-xl-qemuu-ovmf-amd64 pass test-amd64-i386-xl-qemuu-ovmf-amd64 pass ------------------------------------------------------------ sg-report-flight on osstest.test-lab.xenproject.org logs: /home/logs/logs images: /home/logs/images Logs, config files, etc. are available at http://logs.test-lab.xenproject.org/osstest/logs Explanation of these reports, and of osstest in general, is at http://xenbits.xen.org/gitweb/?p=osstest.git;a=blob;f=README.email;hb=master http://xenbits.xen.org/gitweb/?p=osstest.git;a=blob;f=README;hb=master Test harness code can be found at http://xenbits.xen.org/gitweb?p=osstest.git;a=summary Pushing revision : To xenbits.xen.org:/home/xen/git/osstest/ovmf.git 7c2757c298..682a5ed1a2 682a5ed1a229443a259da2df9f961a0448071e3e -> xen-tested-master
|
![]() |
Lists.xenproject.org is hosted with RackSpace, monitoring our |