[Date Prev][Date Next][Thread Prev][Thread Next][Date Index][Thread Index] [ovmf test] 184310: all pass - PUSHED
flight 184310 ovmf real [real] http://logs.test-lab.xenproject.org/osstest/logs/184310/ Perfect :-) All tests in this flight passed as required version targeted for testing: ovmf e7cfdc5f14b408e85fcbcb335aae7c15bbce4dfb baseline version: ovmf 7d055812cc7a7d2b062cf56291211e8cecca36ed Last test of basis 184307 2024-01-10 12:41:03 Z 0 days Testing same since 184310 2024-01-10 16:11:02 Z 0 days 1 attempts ------------------------------------------------------------ People who touched revisions under test: Hou, Wenxing <wenxing.hou@xxxxxxxxx> Joey Vagedes <joey.vagedes@xxxxxxxxx> Wenxing Hou <wenxing.hou@xxxxxxxxx> jobs: build-amd64-xsm pass build-i386-xsm pass build-amd64 pass build-i386 pass build-amd64-libvirt pass build-i386-libvirt pass build-amd64-pvops pass build-i386-pvops pass test-amd64-amd64-xl-qemuu-ovmf-amd64 pass test-amd64-i386-xl-qemuu-ovmf-amd64 pass ------------------------------------------------------------ sg-report-flight on osstest.test-lab.xenproject.org logs: /home/logs/logs images: /home/logs/images Logs, config files, etc. are available at http://logs.test-lab.xenproject.org/osstest/logs Explanation of these reports, and of osstest in general, is at http://xenbits.xen.org/gitweb/?p=osstest.git;a=blob;f=README.email;hb=master http://xenbits.xen.org/gitweb/?p=osstest.git;a=blob;f=README;hb=master Test harness code can be found at http://xenbits.xen.org/gitweb?p=osstest.git;a=summary Pushing revision : To xenbits.xen.org:/home/xen/git/osstest/ovmf.git 7d055812cc..e7cfdc5f14 e7cfdc5f14b408e85fcbcb335aae7c15bbce4dfb -> xen-tested-master
|
![]() |
Lists.xenproject.org is hosted with RackSpace, monitoring our |