[Date Prev][Date Next][Thread Prev][Thread Next][Date Index][Thread Index] [ovmf test] 184288: all pass - PUSHED
flight 184288 ovmf real [real] http://logs.test-lab.xenproject.org/osstest/logs/184288/ Perfect :-) All tests in this flight passed as required version targeted for testing: ovmf f2b074398ca0624206355524a1c5f653ff87876a baseline version: ovmf e7152e6186d31bc138fbd2592e07886005177aab Last test of basis 184276 2024-01-08 10:43:33 Z 0 days Testing same since 184288 2024-01-09 03:12:49 Z 0 days 1 attempts ------------------------------------------------------------ People who touched revisions under test: Suqiang Ren <suqiangx.ren@xxxxxxxxx> jobs: build-amd64-xsm pass build-i386-xsm pass build-amd64 pass build-i386 pass build-amd64-libvirt pass build-i386-libvirt pass build-amd64-pvops pass build-i386-pvops pass test-amd64-amd64-xl-qemuu-ovmf-amd64 pass test-amd64-i386-xl-qemuu-ovmf-amd64 pass ------------------------------------------------------------ sg-report-flight on osstest.test-lab.xenproject.org logs: /home/logs/logs images: /home/logs/images Logs, config files, etc. are available at http://logs.test-lab.xenproject.org/osstest/logs Explanation of these reports, and of osstest in general, is at http://xenbits.xen.org/gitweb/?p=osstest.git;a=blob;f=README.email;hb=master http://xenbits.xen.org/gitweb/?p=osstest.git;a=blob;f=README;hb=master Test harness code can be found at http://xenbits.xen.org/gitweb?p=osstest.git;a=summary Pushing revision : To xenbits.xen.org:/home/xen/git/osstest/ovmf.git e7152e6186..f2b074398c f2b074398ca0624206355524a1c5f653ff87876a -> xen-tested-master
|
![]() |
Lists.xenproject.org is hosted with RackSpace, monitoring our |