[Date Prev][Date Next][Thread Prev][Thread Next][Date Index][Thread Index] [ovmf test] 184198: all pass - PUSHED
flight 184198 ovmf real [real] http://logs.test-lab.xenproject.org/osstest/logs/184198/ Perfect :-) All tests in this flight passed as required version targeted for testing: ovmf 9f0061a03b61d282fbc0ba5be22155d06a5e64a1 baseline version: ovmf 89705ad6c6342e3bd635bed89608e25f74372600 Last test of basis 184196 2023-12-20 23:14:52 Z 0 days Testing same since 184198 2023-12-21 01:57:56 Z 0 days 1 attempts ------------------------------------------------------------ People who touched revisions under test: Joey Vagedes <joey.vagedes@xxxxxxxxx> Joey Vagedes via groups.io <joeyvagedes=microsoft.com@xxxxxxxxx> jobs: build-amd64-xsm pass build-i386-xsm pass build-amd64 pass build-i386 pass build-amd64-libvirt pass build-i386-libvirt pass build-amd64-pvops pass build-i386-pvops pass test-amd64-amd64-xl-qemuu-ovmf-amd64 pass test-amd64-i386-xl-qemuu-ovmf-amd64 pass ------------------------------------------------------------ sg-report-flight on osstest.test-lab.xenproject.org logs: /home/logs/logs images: /home/logs/images Logs, config files, etc. are available at http://logs.test-lab.xenproject.org/osstest/logs Explanation of these reports, and of osstest in general, is at http://xenbits.xen.org/gitweb/?p=osstest.git;a=blob;f=README.email;hb=master http://xenbits.xen.org/gitweb/?p=osstest.git;a=blob;f=README;hb=master Test harness code can be found at http://xenbits.xen.org/gitweb?p=osstest.git;a=summary Pushing revision : To xenbits.xen.org:/home/xen/git/osstest/ovmf.git 89705ad6c6..9f0061a03b 9f0061a03b61d282fbc0ba5be22155d06a5e64a1 -> xen-tested-master
|
Lists.xenproject.org is hosted with RackSpace, monitoring our |