[Date Prev][Date Next][Thread Prev][Thread Next][Date Index][Thread Index]

[ovmf test] 184040: all pass - PUSHED



flight 184040 ovmf real [real]
http://logs.test-lab.xenproject.org/osstest/logs/184040/

Perfect :-)
All tests in this flight passed as required
version targeted for testing:
 ovmf                 3c40ee8c68efb787b13be1a120d2ea0ebf1fc949
baseline version:
 ovmf                 2cd9d5f6fa710e9a8ee810212081f86702114d2f

Last test of basis   184038  2023-12-08 13:43:06 Z    0 days
Testing same since   184040  2023-12-08 23:12:38 Z    0 days    1 attempts

------------------------------------------------------------
People who touched revisions under test:
  ManickamX Srinivasan <manickamx.srinivasan@xxxxxxxxx>

jobs:
 build-amd64-xsm                                              pass    
 build-i386-xsm                                               pass    
 build-amd64                                                  pass    
 build-i386                                                   pass    
 build-amd64-libvirt                                          pass    
 build-i386-libvirt                                           pass    
 build-amd64-pvops                                            pass    
 build-i386-pvops                                             pass    
 test-amd64-amd64-xl-qemuu-ovmf-amd64                         pass    
 test-amd64-i386-xl-qemuu-ovmf-amd64                          pass    


------------------------------------------------------------
sg-report-flight on osstest.test-lab.xenproject.org
logs: /home/logs/logs
images: /home/logs/images

Logs, config files, etc. are available at
    http://logs.test-lab.xenproject.org/osstest/logs

Explanation of these reports, and of osstest in general, is at
    http://xenbits.xen.org/gitweb/?p=osstest.git;a=blob;f=README.email;hb=master
    http://xenbits.xen.org/gitweb/?p=osstest.git;a=blob;f=README;hb=master

Test harness code can be found at
    http://xenbits.xen.org/gitweb?p=osstest.git;a=summary


Pushing revision :

To xenbits.xen.org:/home/xen/git/osstest/ovmf.git
   2cd9d5f6fa..3c40ee8c68  3c40ee8c68efb787b13be1a120d2ea0ebf1fc949 -> 
xen-tested-master



 


Rackspace

Lists.xenproject.org is hosted with RackSpace, monitoring our
servers 24x7x365 and backed by RackSpace's Fanatical Support®.