[Date Prev][Date Next][Thread Prev][Thread Next][Date Index][Thread Index] [ovmf test] 182249: all pass - PUSHED
flight 182249 ovmf real [real] http://logs.test-lab.xenproject.org/osstest/logs/182249/ Perfect :-) All tests in this flight passed as required version targeted for testing: ovmf 991515a0583f65a64b3a6fa354409c64e670a762 baseline version: ovmf 136931c4dbf532ec913b68673c91b4285e63464b Last test of basis 182245 2023-08-09 06:10:51 Z 0 days Testing same since 182249 2023-08-09 15:12:45 Z 0 days 1 attempts ------------------------------------------------------------ People who touched revisions under test: Ard Biesheuvel <ardb@xxxxxxxxxx> Brian J. Johnson <brian.johnson@xxxxxxx> Gerd Hoffmann <kraxel@xxxxxxxxxx> Kenneth Lautner <klautner@xxxxxxxxxxxxx> Yi Li <yi1.li@xxxxxxxxx> jobs: build-amd64-xsm pass build-i386-xsm pass build-amd64 pass build-i386 pass build-amd64-libvirt pass build-i386-libvirt pass build-amd64-pvops pass build-i386-pvops pass test-amd64-amd64-xl-qemuu-ovmf-amd64 pass test-amd64-i386-xl-qemuu-ovmf-amd64 pass ------------------------------------------------------------ sg-report-flight on osstest.test-lab.xenproject.org logs: /home/logs/logs images: /home/logs/images Logs, config files, etc. are available at http://logs.test-lab.xenproject.org/osstest/logs Explanation of these reports, and of osstest in general, is at http://xenbits.xen.org/gitweb/?p=osstest.git;a=blob;f=README.email;hb=master http://xenbits.xen.org/gitweb/?p=osstest.git;a=blob;f=README;hb=master Test harness code can be found at http://xenbits.xen.org/gitweb?p=osstest.git;a=summary Pushing revision : To xenbits.xen.org:/home/xen/git/osstest/ovmf.git 136931c4db..991515a058 991515a0583f65a64b3a6fa354409c64e670a762 -> xen-tested-master
|
![]() |
Lists.xenproject.org is hosted with RackSpace, monitoring our |