[Date Prev][Date Next][Thread Prev][Thread Next][Date Index][Thread Index] [ovmf test] 181234: all pass - PUSHED
flight 181234 ovmf real [real] http://logs.test-lab.xenproject.org/osstest/logs/181234/ Perfect :-) All tests in this flight passed as required version targeted for testing: ovmf 67fc78d026490ea4c375eeb19724abb40e7be8f2 baseline version: ovmf ded0b489af09cde5afa05d74acdb12cd4b4f8394 Last test of basis 181225 2023-06-06 21:54:32 Z 0 days Testing same since 181234 2023-06-07 03:42:43 Z 0 days 1 attempts ------------------------------------------------------------ People who touched revisions under test: Abner Chang <abner.chang@xxxxxxx> Neo Hsueh <Hong-Chih.Hsueh@xxxxxxx> jobs: build-amd64-xsm pass build-i386-xsm pass build-amd64 pass build-i386 pass build-amd64-libvirt pass build-i386-libvirt pass build-amd64-pvops pass build-i386-pvops pass test-amd64-amd64-xl-qemuu-ovmf-amd64 pass test-amd64-i386-xl-qemuu-ovmf-amd64 pass ------------------------------------------------------------ sg-report-flight on osstest.test-lab.xenproject.org logs: /home/logs/logs images: /home/logs/images Logs, config files, etc. are available at http://logs.test-lab.xenproject.org/osstest/logs Explanation of these reports, and of osstest in general, is at http://xenbits.xen.org/gitweb/?p=osstest.git;a=blob;f=README.email;hb=master http://xenbits.xen.org/gitweb/?p=osstest.git;a=blob;f=README;hb=master Test harness code can be found at http://xenbits.xen.org/gitweb?p=osstest.git;a=summary Pushing revision : To xenbits.xen.org:/home/xen/git/osstest/ovmf.git ded0b489af..67fc78d026 67fc78d026490ea4c375eeb19724abb40e7be8f2 -> xen-tested-master
|
![]() |
Lists.xenproject.org is hosted with RackSpace, monitoring our |