[Date Prev][Date Next][Thread Prev][Thread Next][Date Index][Thread Index] [ovmf test] 181127: all pass - PUSHED
flight 181127 ovmf real [real] http://logs.test-lab.xenproject.org/osstest/logs/181127/ Perfect :-) All tests in this flight passed as required version targeted for testing: ovmf c1dd400a13d1a5e862809c55f6760ba3a944a609 baseline version: ovmf 8fbf857a0b42697c22ec03abda9a2101b2870812 Last test of basis 181117 2023-06-02 16:44:01 Z 0 days Testing same since 181127 2023-06-03 00:10:43 Z 0 days 1 attempts ------------------------------------------------------------ People who touched revisions under test: Gerd Hoffmann <kraxel@xxxxxxxxxx> Mikolaj Lisik <lisik@xxxxxxxxxx> Mikolaj Lisik via groups.io <lisik=google.com@xxxxxxxxx> Tom Lendacky <thomas.lendacky@xxxxxxx> jobs: build-amd64-xsm pass build-i386-xsm pass build-amd64 pass build-i386 pass build-amd64-libvirt pass build-i386-libvirt pass build-amd64-pvops pass build-i386-pvops pass test-amd64-amd64-xl-qemuu-ovmf-amd64 pass test-amd64-i386-xl-qemuu-ovmf-amd64 pass ------------------------------------------------------------ sg-report-flight on osstest.test-lab.xenproject.org logs: /home/logs/logs images: /home/logs/images Logs, config files, etc. are available at http://logs.test-lab.xenproject.org/osstest/logs Explanation of these reports, and of osstest in general, is at http://xenbits.xen.org/gitweb/?p=osstest.git;a=blob;f=README.email;hb=master http://xenbits.xen.org/gitweb/?p=osstest.git;a=blob;f=README;hb=master Test harness code can be found at http://xenbits.xen.org/gitweb?p=osstest.git;a=summary Pushing revision : To xenbits.xen.org:/home/xen/git/osstest/ovmf.git 8fbf857a0b..c1dd400a13 c1dd400a13d1a5e862809c55f6760ba3a944a609 -> xen-tested-master
|
Lists.xenproject.org is hosted with RackSpace, monitoring our |