[Date Prev][Date Next][Thread Prev][Thread Next][Date Index][Thread Index] [ovmf test] 181011: all pass - PUSHED
flight 181011 ovmf real [real] http://logs.test-lab.xenproject.org/osstest/logs/181011/ Perfect :-) All tests in this flight passed as required version targeted for testing: ovmf 0f9283429dd487deeeb264ee5670551d596fc208 baseline version: ovmf 9d9761af50e538d983e00b1cb2d0ffcee261e552 Last test of basis 181008 2023-05-30 03:42:25 Z 0 days Testing same since 181011 2023-05-30 08:42:06 Z 0 days 1 attempts ------------------------------------------------------------ People who touched revisions under test: Gerd Hoffmann <kraxel@xxxxxxxxxx> Liu, Zhiguang <Zhiguang.Liu@xxxxxxxxx> Ming Tan <ming.tan@xxxxxxxxx> Pedro Falcato <pedro.falcato@xxxxxxxxx> Ranbir Singh <rsingh@xxxxxxxxxxxxxxxx> Tan, Ming <ming.tan@xxxxxxxxx> Zhiguang Liu <zhiguang.liu@xxxxxxxxx> jobs: build-amd64-xsm pass build-i386-xsm pass build-amd64 pass build-i386 pass build-amd64-libvirt pass build-i386-libvirt pass build-amd64-pvops pass build-i386-pvops pass test-amd64-amd64-xl-qemuu-ovmf-amd64 pass test-amd64-i386-xl-qemuu-ovmf-amd64 pass ------------------------------------------------------------ sg-report-flight on osstest.test-lab.xenproject.org logs: /home/logs/logs images: /home/logs/images Logs, config files, etc. are available at http://logs.test-lab.xenproject.org/osstest/logs Explanation of these reports, and of osstest in general, is at http://xenbits.xen.org/gitweb/?p=osstest.git;a=blob;f=README.email;hb=master http://xenbits.xen.org/gitweb/?p=osstest.git;a=blob;f=README;hb=master Test harness code can be found at http://xenbits.xen.org/gitweb?p=osstest.git;a=summary Pushing revision : To xenbits.xen.org:/home/xen/git/osstest/ovmf.git 9d9761af50..0f9283429d 0f9283429dd487deeeb264ee5670551d596fc208 -> xen-tested-master
|
![]() |
Lists.xenproject.org is hosted with RackSpace, monitoring our |