[Date Prev][Date Next][Thread Prev][Thread Next][Date Index][Thread Index] [ovmf test] 180994: all pass - PUSHED
flight 180994 ovmf real [real] http://logs.test-lab.xenproject.org/osstest/logs/180994/ Perfect :-) All tests in this flight passed as required version targeted for testing: ovmf 5258c4186f3a41c14a1d4cd40217810882ccd222 baseline version: ovmf 0f8323b44b20c982f303cc01ccf7146556bc3d4d Last test of basis 180991 2023-05-29 01:42:18 Z 0 days Testing same since 180994 2023-05-29 03:46:14 Z 0 days 1 attempts ------------------------------------------------------------ People who touched revisions under test: Gua Guo <gua.guo@xxxxxxxxx> Nickle Wang <nicklew@xxxxxxxxxx> jobs: build-amd64-xsm pass build-i386-xsm pass build-amd64 pass build-i386 pass build-amd64-libvirt pass build-i386-libvirt pass build-amd64-pvops pass build-i386-pvops pass test-amd64-amd64-xl-qemuu-ovmf-amd64 pass test-amd64-i386-xl-qemuu-ovmf-amd64 pass ------------------------------------------------------------ sg-report-flight on osstest.test-lab.xenproject.org logs: /home/logs/logs images: /home/logs/images Logs, config files, etc. are available at http://logs.test-lab.xenproject.org/osstest/logs Explanation of these reports, and of osstest in general, is at http://xenbits.xen.org/gitweb/?p=osstest.git;a=blob;f=README.email;hb=master http://xenbits.xen.org/gitweb/?p=osstest.git;a=blob;f=README;hb=master Test harness code can be found at http://xenbits.xen.org/gitweb?p=osstest.git;a=summary Pushing revision : To xenbits.xen.org:/home/xen/git/osstest/ovmf.git 0f8323b44b..5258c4186f 5258c4186f3a41c14a1d4cd40217810882ccd222 -> xen-tested-master
|
Lists.xenproject.org is hosted with RackSpace, monitoring our |