[Date Prev][Date Next][Thread Prev][Thread Next][Date Index][Thread Index]

[ovmf test] 180928: all pass - PUSHED



flight 180928 ovmf real [real]
http://logs.test-lab.xenproject.org/osstest/logs/180928/

Perfect :-)
All tests in this flight passed as required
version targeted for testing:
 ovmf                 ba91d0292e593df8528b66f99c1b0b14fadc8e16
baseline version:
 ovmf                 5ce29ae84db340244c3c3299f84713a88dec5171

Last test of basis   180908  2023-05-23 01:12:21 Z    1 days
Testing same since   180928  2023-05-24 13:10:44 Z    0 days    1 attempts

------------------------------------------------------------
People who touched revisions under test:
  Wendy Liao <wendy.liao@xxxxxxxxxx>

jobs:
 build-amd64-xsm                                              pass    
 build-i386-xsm                                               pass    
 build-amd64                                                  pass    
 build-i386                                                   pass    
 build-amd64-libvirt                                          pass    
 build-i386-libvirt                                           pass    
 build-amd64-pvops                                            pass    
 build-i386-pvops                                             pass    
 test-amd64-amd64-xl-qemuu-ovmf-amd64                         pass    
 test-amd64-i386-xl-qemuu-ovmf-amd64                          pass    


------------------------------------------------------------
sg-report-flight on osstest.test-lab.xenproject.org
logs: /home/logs/logs
images: /home/logs/images

Logs, config files, etc. are available at
    http://logs.test-lab.xenproject.org/osstest/logs

Explanation of these reports, and of osstest in general, is at
    http://xenbits.xen.org/gitweb/?p=osstest.git;a=blob;f=README.email;hb=master
    http://xenbits.xen.org/gitweb/?p=osstest.git;a=blob;f=README;hb=master

Test harness code can be found at
    http://xenbits.xen.org/gitweb?p=osstest.git;a=summary


Pushing revision :

To xenbits.xen.org:/home/xen/git/osstest/ovmf.git
   5ce29ae84d..ba91d0292e  ba91d0292e593df8528b66f99c1b0b14fadc8e16 -> 
xen-tested-master



 


Rackspace

Lists.xenproject.org is hosted with RackSpace, monitoring our
servers 24x7x365 and backed by RackSpace's Fanatical Support®.