[Date Prev][Date Next][Thread Prev][Thread Next][Date Index][Thread Index] [ovmf test] 178254: all pass - PUSHED
flight 178254 ovmf real [real] http://logs.test-lab.xenproject.org/osstest/logs/178254/ Perfect :-) All tests in this flight passed as required version targeted for testing: ovmf 1eeca0750af5af2f0e78437bf791ac2de74bde74 baseline version: ovmf 2c5961cccff1164ac7d0e34baa606d1ba1abcf43 Last test of basis 178201 2023-02-23 04:12:36 Z 0 days Testing same since 178254 2023-02-23 15:11:10 Z 0 days 1 attempts ------------------------------------------------------------ People who touched revisions under test: MarsX Lin <marsx.lin@xxxxxxxxx> Sunil V L <sunilvl@xxxxxxxxxxxxxxxx> jobs: build-amd64-xsm pass build-i386-xsm pass build-amd64 pass build-i386 pass build-amd64-libvirt pass build-i386-libvirt pass build-amd64-pvops pass build-i386-pvops pass test-amd64-amd64-xl-qemuu-ovmf-amd64 pass test-amd64-i386-xl-qemuu-ovmf-amd64 pass ------------------------------------------------------------ sg-report-flight on osstest.test-lab.xenproject.org logs: /home/logs/logs images: /home/logs/images Logs, config files, etc. are available at http://logs.test-lab.xenproject.org/osstest/logs Explanation of these reports, and of osstest in general, is at http://xenbits.xen.org/gitweb/?p=osstest.git;a=blob;f=README.email;hb=master http://xenbits.xen.org/gitweb/?p=osstest.git;a=blob;f=README;hb=master Test harness code can be found at http://xenbits.xen.org/gitweb?p=osstest.git;a=summary Pushing revision : To xenbits.xen.org:/home/xen/git/osstest/ovmf.git 2c5961cccf..1eeca0750a 1eeca0750af5af2f0e78437bf791ac2de74bde74 -> xen-tested-master
|
Lists.xenproject.org is hosted with RackSpace, monitoring our |