[Date Prev][Date Next][Thread Prev][Thread Next][Date Index][Thread Index] [ovmf test] 176346: all pass - PUSHED
flight 176346 ovmf real [real] http://logs.test-lab.xenproject.org/osstest/logs/176346/ Perfect :-) All tests in this flight passed as required version targeted for testing: ovmf 11f0014c0e3046e3762eac420b760091d0cdc063 baseline version: ovmf ae6e470252d9312dce20d0b21e7f622c4ca9ad0a Last test of basis 176328 2023-02-02 06:12:22 Z 1 days Testing same since 176346 2023-02-03 08:11:24 Z 0 days 1 attempts ------------------------------------------------------------ People who touched revisions under test: Rebecca Cran <rebecca@xxxxxxxxx> jobs: build-amd64-xsm pass build-i386-xsm pass build-amd64 pass build-i386 pass build-amd64-libvirt pass build-i386-libvirt pass build-amd64-pvops pass build-i386-pvops pass test-amd64-amd64-xl-qemuu-ovmf-amd64 pass test-amd64-i386-xl-qemuu-ovmf-amd64 pass ------------------------------------------------------------ sg-report-flight on osstest.test-lab.xenproject.org logs: /home/logs/logs images: /home/logs/images Logs, config files, etc. are available at http://logs.test-lab.xenproject.org/osstest/logs Explanation of these reports, and of osstest in general, is at http://xenbits.xen.org/gitweb/?p=osstest.git;a=blob;f=README.email;hb=master http://xenbits.xen.org/gitweb/?p=osstest.git;a=blob;f=README;hb=master Test harness code can be found at http://xenbits.xen.org/gitweb?p=osstest.git;a=summary Pushing revision : To xenbits.xen.org:/home/xen/git/osstest/ovmf.git ae6e470252..11f0014c0e 11f0014c0e3046e3762eac420b760091d0cdc063 -> xen-tested-master
|
![]() |
Lists.xenproject.org is hosted with RackSpace, monitoring our |