[Date Prev][Date Next][Thread Prev][Thread Next][Date Index][Thread Index] [ovmf test] 176225: all pass - PUSHED
flight 176225 ovmf real [real] http://logs.test-lab.xenproject.org/osstest/logs/176225/ Perfect :-) All tests in this flight passed as required version targeted for testing: ovmf ca573b86157e7fcd34cd44e79ebd10e89d8b8cc4 baseline version: ovmf d0ff1cae3a1ab20ffd5a1d80658c38c113585651 Last test of basis 176144 2023-01-26 09:10:46 Z 0 days Testing same since 176225 2023-01-26 22:14:24 Z 0 days 1 attempts ------------------------------------------------------------ People who touched revisions under test: Ard Biesheuvel <ardb@xxxxxxxxxx> Gerd Hoffmann <kraxel@xxxxxxxxxx> jobs: build-amd64-xsm pass build-i386-xsm pass build-amd64 pass build-i386 pass build-amd64-libvirt pass build-i386-libvirt pass build-amd64-pvops pass build-i386-pvops pass test-amd64-amd64-xl-qemuu-ovmf-amd64 pass test-amd64-i386-xl-qemuu-ovmf-amd64 pass ------------------------------------------------------------ sg-report-flight on osstest.test-lab.xenproject.org logs: /home/logs/logs images: /home/logs/images Logs, config files, etc. are available at http://logs.test-lab.xenproject.org/osstest/logs Explanation of these reports, and of osstest in general, is at http://xenbits.xen.org/gitweb/?p=osstest.git;a=blob;f=README.email;hb=master http://xenbits.xen.org/gitweb/?p=osstest.git;a=blob;f=README;hb=master Test harness code can be found at http://xenbits.xen.org/gitweb?p=osstest.git;a=summary Pushing revision : To xenbits.xen.org:/home/xen/git/osstest/ovmf.git d0ff1cae3a..ca573b8615 ca573b86157e7fcd34cd44e79ebd10e89d8b8cc4 -> xen-tested-master
|
![]() |
Lists.xenproject.org is hosted with RackSpace, monitoring our |