[Date Prev][Date Next][Thread Prev][Thread Next][Date Index][Thread Index] [ovmf test] 175444: all pass - PUSHED
flight 175444 ovmf real [real] http://logs.test-lab.xenproject.org/osstest/logs/175444/ Perfect :-) All tests in this flight passed as required version targeted for testing: ovmf 62031335bdbacc68253d43481477b9a468e0644e baseline version: ovmf 0b633b14944903c32aa061befaf38bd8d994cf13 Last test of basis 175441 2022-12-21 11:13:47 Z 0 days Testing same since 175444 2022-12-21 16:12:30 Z 0 days 1 attempts ------------------------------------------------------------ People who touched revisions under test: Dun Tan <dun.tan@xxxxxxxxx> duntan <dun.tan@xxxxxxxxx> Jian J Wang <jian.j.wang@xxxxxxxxx> Judah Vang <judah.vang@xxxxxxxxx> Nishant C Mistry <nishant.c.mistry@xxxxxxxxx> Tan, Dun <dun.tan@xxxxxxxxx> jobs: build-amd64-xsm pass build-i386-xsm pass build-amd64 pass build-i386 pass build-amd64-libvirt pass build-i386-libvirt pass build-amd64-pvops pass build-i386-pvops pass test-amd64-amd64-xl-qemuu-ovmf-amd64 pass test-amd64-i386-xl-qemuu-ovmf-amd64 pass ------------------------------------------------------------ sg-report-flight on osstest.test-lab.xenproject.org logs: /home/logs/logs images: /home/logs/images Logs, config files, etc. are available at http://logs.test-lab.xenproject.org/osstest/logs Explanation of these reports, and of osstest in general, is at http://xenbits.xen.org/gitweb/?p=osstest.git;a=blob;f=README.email;hb=master http://xenbits.xen.org/gitweb/?p=osstest.git;a=blob;f=README;hb=master Test harness code can be found at http://xenbits.xen.org/gitweb?p=osstest.git;a=summary Pushing revision : To xenbits.xen.org:/home/xen/git/osstest/ovmf.git 0b633b1494..62031335bd 62031335bdbacc68253d43481477b9a468e0644e -> xen-tested-master
|
![]() |
Lists.xenproject.org is hosted with RackSpace, monitoring our |