[Date Prev][Date Next][Thread Prev][Thread Next][Date Index][Thread Index] [ovmf test] 175441: all pass - PUSHED
flight 175441 ovmf real [real] http://logs.test-lab.xenproject.org/osstest/logs/175441/ Perfect :-) All tests in this flight passed as required version targeted for testing: ovmf 0b633b14944903c32aa061befaf38bd8d994cf13 baseline version: ovmf d103840cfb559c28831c2635b916d60118f671cc Last test of basis 175202 2022-12-14 13:42:59 Z 7 days Failing since 175214 2022-12-14 18:42:16 Z 6 days 41 attempts Testing same since 175441 2022-12-21 11:13:47 Z 0 days 1 attempts ------------------------------------------------------------ People who touched revisions under test: Abner Chang <abner.chang@xxxxxxx> Adam Dunlap <acdunlap@xxxxxxxxxx> Anthony PERARD <anthony.perard@xxxxxxxxxx> Ard Biesheuvel <ardb@xxxxxxxxxx> Chun-Yi Lee <jlee@xxxxxxxx> Chun-Yi Lee <joeyli.kernel@xxxxxxxxx> devel@xxxxxxxxxxxxxx <devel@xxxxxxxxxxxxxx> Dov Murik <dovmurik@xxxxxxxxxxxxx> Gerd Hoffmann <kraxel@xxxxxxxxxx> jdzhang <jdzhang@xxxxxxxxxxxxxxxxx> Jeff Brasen <jbrasen@xxxxxxxxxx> Jeshua Smith <jeshuas@xxxxxxxxxx> Jian J Wang <jian.j.wang@xxxxxxxxx> Jiaqi Gao <jiaqi.gao@xxxxxxxxx> Jiewen Yao <Jiewen.yao@xxxxxxxxx> Judah Vang <judah.vang@xxxxxxxxx> Kavya <k.kavyax.sravanthi@xxxxxxxxx> Kuo, Ted <ted.kuo@xxxxxxxxx> MarsX Lin <marsx.lin@xxxxxxxxx> Matt DeVillier <matt.devillier@xxxxxxxxx> Michael D Kinney <michael.d.kinney@xxxxxxxxx> Michael Kubacki <michael.kubacki@xxxxxxxxxxxxx> Min M Xu <min.m.xu@xxxxxxxxx> Min Xu <min.m.xu@xxxxxxxxx> Nishant C Mistry <nishant.c.mistry@xxxxxxxxx> Ray Ni <ray.ni@xxxxxxxxx> Rebecca Cran <quic_rcran@xxxxxxxxxxx> Rebecca Cran <rebecca@xxxxxxxxxxx> Sean Rhodes <sean@starlabs.systems> Sebastien Boeuf <sebastien.boeuf@xxxxxxxxx> Ted Kuo <ted.kuo@xxxxxxxxx> Tom Lendacky <thomas.lendacky@xxxxxxx> Xie, Yuanhao <yuanhao.xie@xxxxxxxxx> Yuanhao Xie <yuanhao.xie@xxxxxxxxx> jobs: build-amd64-xsm pass build-i386-xsm pass build-amd64 pass build-i386 pass build-amd64-libvirt pass build-i386-libvirt pass build-amd64-pvops pass build-i386-pvops pass test-amd64-amd64-xl-qemuu-ovmf-amd64 pass test-amd64-i386-xl-qemuu-ovmf-amd64 pass ------------------------------------------------------------ sg-report-flight on osstest.test-lab.xenproject.org logs: /home/logs/logs images: /home/logs/images Logs, config files, etc. are available at http://logs.test-lab.xenproject.org/osstest/logs Explanation of these reports, and of osstest in general, is at http://xenbits.xen.org/gitweb/?p=osstest.git;a=blob;f=README.email;hb=master http://xenbits.xen.org/gitweb/?p=osstest.git;a=blob;f=README;hb=master Test harness code can be found at http://xenbits.xen.org/gitweb?p=osstest.git;a=summary Pushing revision : To xenbits.xen.org:/home/xen/git/osstest/ovmf.git d103840cfb..0b633b1494 0b633b14944903c32aa061befaf38bd8d994cf13 -> xen-tested-master
|
![]() |
Lists.xenproject.org is hosted with RackSpace, monitoring our |