[Date Prev][Date Next][Thread Prev][Thread Next][Date Index][Thread Index] [ovmf test] 175172: all pass - PUSHED
flight 175172 ovmf real [real] http://logs.test-lab.xenproject.org/osstest/logs/175172/ Perfect :-) All tests in this flight passed as required version targeted for testing: ovmf 11ce7a2de7549306a853cc3fe3abe6ef8f874b40 baseline version: ovmf 5890a18409a0e67a491c600b930e6c904ad3b3fd Last test of basis 175151 2022-12-12 06:42:41 Z 1 days Testing same since 175172 2022-12-13 14:40:49 Z 0 days 1 attempts ------------------------------------------------------------ People who touched revisions under test: Pierre Gondois <pierre.gondois@xxxxxxx> jobs: build-amd64-xsm pass build-i386-xsm pass build-amd64 pass build-i386 pass build-amd64-libvirt pass build-i386-libvirt pass build-amd64-pvops pass build-i386-pvops pass test-amd64-amd64-xl-qemuu-ovmf-amd64 pass test-amd64-i386-xl-qemuu-ovmf-amd64 pass ------------------------------------------------------------ sg-report-flight on osstest.test-lab.xenproject.org logs: /home/logs/logs images: /home/logs/images Logs, config files, etc. are available at http://logs.test-lab.xenproject.org/osstest/logs Explanation of these reports, and of osstest in general, is at http://xenbits.xen.org/gitweb/?p=osstest.git;a=blob;f=README.email;hb=master http://xenbits.xen.org/gitweb/?p=osstest.git;a=blob;f=README;hb=master Test harness code can be found at http://xenbits.xen.org/gitweb?p=osstest.git;a=summary Pushing revision : To xenbits.xen.org:/home/xen/git/osstest/ovmf.git 5890a18409..11ce7a2de7 11ce7a2de7549306a853cc3fe3abe6ef8f874b40 -> xen-tested-master
|
![]() |
Lists.xenproject.org is hosted with RackSpace, monitoring our |